BEGIN:VCALENDAR
VERSION:2.0
PRODID:-//swoogo.com//NONSGML kigkonsult.se iCalcreator 2.41.90//
CALSCALE:GREGORIAN
UID:61376361-6566-4439-a466-363464303934
BEGIN:VEVENT
UID:f2325a53e2268df73a2125b22a4ebdc3b1291803@swoogo.com
DTSTAMP:20260419T170059Z
DESCRIPTION:Team '24 Europe is Atlassian's teamwork conference for European
  customers. It's about teamwork innovation—advancing the way people work t
 ogether with deep human insight and breakthrough technology. \n\nJoin us t
 o learn real-world best practices powering teams across the world. See wha
 t your teams can achieve with the Atlassian platform and discover bold adv
 ancements in AI and human collaboration. Hear about our exciting product r
 oadmap\, discover new ideas for better ways of working\, and network with 
 your peers and Atlassian experts.\n\nLearn more: https://events.atlassian.
 com/teameurope
DTSTART:20241007T220000Z
DTEND:20241009T220000Z
LAST-MODIFIED:20260419T170059Z
LOCATION:Barcelona\, Barcelona CT\, Spain
SEQUENCE:0
STATUS:CONFIRMED
SUMMARY:Team ’24 Europe Sign up
TRANSP:OPAQUE
X-ALT-DESC;FMTTYPE=text/html:<p>Team '24 Europe is Atlassian's teamwork con
 ference for European customers. It's about teamwork innovation—advancing t
 he way people work together with deep human insight and breakthrough techn
 ology. </p>\n\n<p>Join us to learn real-world best practices powering team
 s across the world. See what your teams can achieve with the Atlassian pla
 tform and discover bold advancements in AI and human collaboration. Hear a
 bout our exciting product roadmap\, discover new ideas for better ways of 
 working\, and network with your peers and Atlassian experts.</p>\n\n<p>Lea
 rn more: <a href='https://events.atlassian.com/teameurope' target='_blank'
  rel='noreferrer noopener'>https://events.atlassian.com/teameurope</a></p>
BEGIN:VALARM
UID:64633764-6434-4566-b433-353834363134
ACTION:DISPLAY
DESCRIPTION:Team '24 Europe is Atlassian's teamwork conference for European
  customers. It's about teamwork innovation—advancing the way people work t
 ogether with deep human insight and breakthrough technology. \n\nJoin us t
 o learn real-world best practices powering teams across the world. See wha
 t your teams can achieve with the Atlassian platform and discover bold adv
 ancements in AI and human collaboration. Hear about our exciting product r
 oadmap\, discover new ideas for better ways of working\, and network with 
 your peers and Atlassian experts.\n\nLearn more: https://events.atlassian.
 com/teameurope
TRIGGER:-PT15M
END:VALARM
END:VEVENT
END:VCALENDAR
